BEGIN:VCALENDAR
VERSION:2.0
PRODID:-//Tuxedo Junction - ECPv6.15.20//NONSGML v1.0//EN
CALSCALE:GREGORIAN
METHOD:PUBLISH
X-WR-CALNAME:Tuxedo Junction
X-ORIGINAL-URL:https://tuxedojunction.band
X-WR-CALDESC:Events for Tuxedo Junction
REFRESH-INTERVAL;VALUE=DURATION:PT1H
X-Robots-Tag:noindex
X-PUBLISHED-TTL:PT1H
BEGIN:VTIMEZONE
TZID:America/New_York
BEGIN:DAYLIGHT
TZOFFSETFROM:-0500
TZOFFSETTO:-0400
TZNAME:EDT
DTSTART:20250309T070000
END:DAYLIGHT
BEGIN:STANDARD
TZOFFSETFROM:-0400
TZOFFSETTO:-0500
TZNAME:EST
DTSTART:20251102T060000
END:STANDARD
BEGIN:DAYLIGHT
TZOFFSETFROM:-0500
TZOFFSETTO:-0400
TZNAME:EDT
DTSTART:20260308T070000
END:DAYLIGHT
BEGIN:STANDARD
TZOFFSETFROM:-0400
TZOFFSETTO:-0500
TZNAME:EST
DTSTART:20261101T060000
END:STANDARD
BEGIN:DAYLIGHT
TZOFFSETFROM:-0500
TZOFFSETTO:-0400
TZNAME:EDT
DTSTART:20270314T070000
END:DAYLIGHT
BEGIN:STANDARD
TZOFFSETFROM:-0400
TZOFFSETTO:-0500
TZNAME:EST
DTSTART:20271107T060000
END:STANDARD
END:VTIMEZONE
BEGIN:VEVENT
DTSTART;TZID=America/New_York:20260419T120000
DTEND;TZID=America/New_York:20260419T150000
DTSTAMP:20260421T115311
CREATED:20260323T223634Z
LAST-MODIFIED:20260323T223852Z
UID:1945-1776600000-1776610800@tuxedojunction.band
SUMMARY:The Gary Grippo Quartet: Featuring Vocalist :           April Marie
DESCRIPTION:Garry Grippo’s Sunday Jazz Brunch at Quattro’s featuring April Marie vocalist.
URL:https://tuxedojunction.band/event/the-gary-grippo-quartet-featuring-vocalist-april-marie/
END:VEVENT
END:VCALENDAR