BEGIN:VCALENDAR
VERSION:2.0
PRODID:-//Tuxedo Junction - ECPv6.15.20//NONSGML v1.0//EN
CALSCALE:GREGORIAN
METHOD:PUBLISH
X-WR-CALNAME:Tuxedo Junction
X-ORIGINAL-URL:https://tuxedojunction.band
X-WR-CALDESC:Events for Tuxedo Junction
REFRESH-INTERVAL;VALUE=DURATION:PT1H
X-Robots-Tag:noindex
X-PUBLISHED-TTL:PT1H
BEGIN:VTIMEZONE
TZID:America/New_York
BEGIN:DAYLIGHT
TZOFFSETFROM:-0500
TZOFFSETTO:-0400
TZNAME:EDT
DTSTART:20250309T070000
END:DAYLIGHT
BEGIN:STANDARD
TZOFFSETFROM:-0400
TZOFFSETTO:-0500
TZNAME:EST
DTSTART:20251102T060000
END:STANDARD
BEGIN:DAYLIGHT
TZOFFSETFROM:-0500
TZOFFSETTO:-0400
TZNAME:EDT
DTSTART:20260308T070000
END:DAYLIGHT
BEGIN:STANDARD
TZOFFSETFROM:-0400
TZOFFSETTO:-0500
TZNAME:EST
DTSTART:20261101T060000
END:STANDARD
BEGIN:DAYLIGHT
TZOFFSETFROM:-0500
TZOFFSETTO:-0400
TZNAME:EDT
DTSTART:20270314T070000
END:DAYLIGHT
BEGIN:STANDARD
TZOFFSETFROM:-0400
TZOFFSETTO:-0500
TZNAME:EST
DTSTART:20271107T060000
END:STANDARD
END:VTIMEZONE
BEGIN:VEVENT
DTSTART;TZID=America/New_York:20260719T160000
DTEND;TZID=America/New_York:20260719T180000
DTSTAMP:20260421T054343
CREATED:20260323T223137Z
LAST-MODIFIED:20260323T223139Z
UID:1942-1784476800-1784484000@tuxedojunction.band
SUMMARY:Tuxedo Junction: Sounds Of Swing
DESCRIPTION:Performing at the Whitney Center Hamden CT. (Private Function)
URL:https://tuxedojunction.band/event/tuxedo-junction-sounds-of-swing/
END:VEVENT
BEGIN:VEVENT
DTSTART;TZID=America/New_York:20260801T143000
DTEND;TZID=America/New_York:20260801T190000
DTSTAMP:20260421T054343
CREATED:20260402T212320Z
LAST-MODIFIED:20260402T212321Z
UID:1965-1785594600-1785610800@tuxedojunction.band
SUMMARY:ESSEX LIONS CLUB LOBSTER BAKE
DESCRIPTION:Tuxedo Junction will be performing at the Gazebo 3:00pm to 6:00pm \n\n\n\non the Town Green\, Essex Ct
URL:https://tuxedojunction.band/event/essex-lions-club-lobster-bake/
END:VEVENT
END:VCALENDAR